BEGIN:VCALENDAR
VERSION:2.0
PRODID:-//hacksw/handcal//NONSGML v1.0//EN
BEGIN:VEVENT
SUMMARY:Match
UID:4926ffa9-7da5-4d76-9667-73f9f53fedea
DTSTART:20260321T090000Z
DTEND:20260321T130000Z
LOCATION:Localisation   
CATEGORIES:Sportif
STATUS:
DESCRIPTION:Belle victoire de notre equipe ! Rendez-vous samedi pour
 le prochain match. 
URL;VALUE=URI:https://footgaleria.sportsregions.fr/evenements/2026/03/21/match-2431123
END:VEVENT
BEGIN:VEVENT
SUMMARY:Tournoi regional
UID:b36093b8-a2fc-48a6-8097-8a1e32303962
DTSTART:20260321T090000Z
DTEND:20260321T130000Z
LOCATION:Localisation   
CATEGORIES:Sportif
STATUS:
DESCRIPTION:<p>Le tournoi regional organise par le club aura lieu sur
 le grand stade de la ville a partir de 14h.<br> Trois de nos equipes
 seront en lice dans la competition.
 </p><p>Les prix seront remis en
 soiree.</p>
URL;VALUE=URI:https://footgaleria.sportsregions.fr/evenements/2026/03/21/tournoi-regional-2431122
END:VEVENT
BEGIN:VEVENT
SUMMARY:Entrainement Equipe 1
UID:44c224a1-8afa-42d3-a00c-4888e3be2f67
DTSTART:20260321T180000Z
DTEND:20260321T200000Z
LOCATION:Localisation   
CATEGORIES:Entrainement
STATUS:
DESCRIPTION:Entrainement tactique pour l'equipe 1 ce soir au stade
 Municipal. 
URL;VALUE=URI:https://footgaleria.sportsregions.fr/evenements/2026/03/21/entrainement-equipe-1-2431124
END:VEVENT
END:VCALENDAR
